BEGIN:VCALENDAR
PRODID:-//eluceo/ical//2.0/EN
VERSION:2.0
CALSCALE:GREGORIAN
BEGIN:VEVENT
UID:5350443e7bec42af75f73ae2e3a4a402
DTSTAMP:20260423T005341Z
SUMMARY:Chanukah Musical Havdalah & Kumzits
DESCRIPTION:Jewish Federation of New Hampshire\nCommunity Calendar\nhttps:/
 /jewishnh.org/community-calendar/chanukah-musical-havdalah--kumzits-170128
 2634\n\nJoin us for a magical evening at the Seacoast Jewish Center: Chanu
 kah Musical Havdalah & Kumzits with James Prendergast & Guy Ben David! ?? 
 Experience the warmth of the Chanukah on Saturday\, Dec 9\, at 6 PM at the
  Jewish Community Center\, 2299 Woodbury Ave\, Newington\, NH 03824. Regis
 ter at jewishseacoast.com/kumzits. Don't miss this joyous celebration! #Ch
 anukahMusical #Havdalah #Kumzits #SeacoastJewishCenter
DTSTART;TZID=America/New_York:20231209T180000
DTEND;TZID=America/New_York:20231209T200000
END:VEVENT
END:VCALENDAR
