BEGIN:VCALENDAR
PRODID:-//eluceo/ical//2.0/EN
VERSION:2.0
CALSCALE:GREGORIAN
BEGIN:VEVENT
UID:932f0b17d0cff3fc0741fb51033e9504
DTSTAMP:20260422T121808Z
SUMMARY:Chanukah on Ice
DESCRIPTION:Jewish Federation of New Hampshire\nCommunity Calendar\nhttps:/
 /jewishnh.org/community-calendar/chanukah-on-ice-1604954313\n\nCHANUKAH ON
  ICECome join us for an outdoor social distant event\, on Sunday\, Decembe
 r 13th\, at 2 PM for Ice Skating\, Menorah Lighting\, The Dreidel man\, Do
 nuts\, Crafts\, Jewish Music\, Starbucks Coffee\, and More!@ The Labrie Fa
 mily Skate - Strawbery Banke Museum14 Hancock Street Portsmouth NH 03801FR
 EE OF CHARGE - Skates available for rentIce Rink Open Exclusively to Chanu
 kah on Ice ParticipantsRegistration Required at JewishSeacoast.com/Ice - 6
 03-205-6598
DTSTART;TZID=America/New_York:20201213T140000
DTEND;TZID=America/New_York:20201213T160000
END:VEVENT
END:VCALENDAR
