BEGIN:VCALENDAR
PRODID:-//eluceo/ical//2.0/EN
VERSION:2.0
CALSCALE:GREGORIAN
BEGIN:VEVENT
UID:9e629cf98f33afb856096e3190221c16
DTSTAMP:20260422T045533Z
SUMMARY:Chanukah On Ice
DESCRIPTION:Jewish Federation of New Hampshire\nCommunity Calendar\nhttps:/
 /jewishnh.org/community-calendar/chanukah-on-ice-1636738173\n\nCome join u
 s for our second annual CHANUKAH ON ICE! Sunday\, December 5th\, at 2 PM -
 Ice Skating\, -Menorah Lighting\, -The Dreidel man\, - Donuts & Hot drinks
  -Crafts\, -Jewish Music and More! @The Labrie Family Skate - Strawbery Ba
 nke Museum 14 Hancock Street Portsmouth NH 03801 FREE OF CHARGE - Skates a
 vailable for rent Ice Rink Open Exclusively to Chanukah on Ice Participant
 s Registration Required at JewishSeacoast.com/Ice - 603-205-6598
DTSTART;TZID=America/New_York:20211205T140000
DTEND;TZID=America/New_York:20211205T160000
END:VEVENT
END:VCALENDAR
