BEGIN:VCALENDAR
PRODID:-//eluceo/ical//2.0/EN
VERSION:2.0
CALSCALE:GREGORIAN
BEGIN:VEVENT
UID:8047606f3f4502a185961e87df015469
DTSTAMP:20260423T160153Z
SUMMARY:Chanukah On Ice
DESCRIPTION:Jewish Federation of New Hampshire\nCommunity Calendar\nhttps:/
 /jewishnh.org/community-calendar/chanukah-on-ice-1701181653\n\nThis is whe
 re the party’s at this Chanukah!  Join us as we LIGHT UP Portsmouth: Our
  annual Chanukah on IceSkate to Jewish Music  Lighting a Giant Menorah  Do
 nuts & Chocolate Gelt Arts and Crafts Hot Coffee & more!Don’t skate? Don
 ’t worry! This Chanukah celebration is one that all ages and stages will
  enjoy - on or off the ice! Sunday\, December 10\, 2pm Strawbery Banke Mus
 eum - Labrie Family Skate $5 Per person | Skates available for rent $6.  Y
 our quick and easy RSVP is required at Jewis...
DTSTART;TZID=America/New_York:20231210T140000
DTEND;TZID=America/New_York:20231210T160000
END:VEVENT
END:VCALENDAR
