BEGIN:VCALENDAR
PRODID:-//eluceo/ical//2.0/EN
VERSION:2.0
CALSCALE:GREGORIAN
BEGIN:VEVENT
UID:cfcd4ab22b1814b3375c9888d763880d
DTSTAMP:20260422T112338Z
SUMMARY:Children's Breakfast (Southern NH Jewish Men's Club)
DESCRIPTION:Jewish Federation of New Hampshire\nCommunity Calendar\nhttps:/
 /jewishnh.org/community-calendar/childrens-breakfast-southern-nh-jewish-me
 ns-club-1550854368\n\nThe Southern New Hampshire Jewish Men’s Club is pl
 eased to welcome Wildlife Encounters Ecology Center and their highly accla
 imed “Wildlife Encounter” program. They will provide an exceptional ed
 ucational experience appropriate for all ages. This unique presentation wi
 ll introduce the audience to a large variety of ambassador animals. Our ch
 ildren will have a chance to experience hands on animals such as: Tortoise
 \, Lizard\, Iquana\, or Macaw. And visit with animals such as a Coatimundi
 \, Po...
DTSTART;TZID=America/New_York:20190303T093000
DTEND;TZID=America/New_York:20190303T120000
END:VEVENT
END:VCALENDAR
