BEGIN:VCALENDAR
PRODID:-//eluceo/ical//2.0/EN
VERSION:2.0
CALSCALE:GREGORIAN
BEGIN:VEVENT
UID:618f426332df54859b2d6e7cd3ec7a63
DTSTAMP:20260423T204250Z
SUMMARY:Chinese Night and Can-Menorah Building
DESCRIPTION:Jewish Federation of New Hampshire\nCommunity Calendar\nhttps:/
 /jewishnh.org/community-calendar/chinese-night-and-can-menorah-building-16
 68021040\n\nChinese Night and Can-Menorah Building\n\nSUNDAY | DEC 25TH | 
 3:00 PM\n\nFeaturing:\n\n- Chinese Buffet\n- Building A Giant Can-Menorah\
 n\nDonate cans or money to our Can-Menorah. All cans will be donated to th
 e local food banks.\n\nAdmission: $15 Adult $10 Child\nAll are welcome!\n\
 nRegister at JewishSeacoast.com/CanOrah
DTSTART;TZID=America/New_York:20221225T150000
DTEND;TZID=America/New_York:20221225T170000
END:VEVENT
END:VCALENDAR
