BEGIN:VCALENDAR
PRODID:-//eluceo/ical//2.0/EN
VERSION:2.0
CALSCALE:GREGORIAN
BEGIN:VEVENT
UID:fd6e9c2e6c1f4b8a57b037fdda4e60a2
DTSTAMP:20260423T170646Z
SUMMARY:Chocolate Havdalah Story Time
DESCRIPTION:Jewish Federation of New Hampshire\nCommunity Calendar\nhttps:/
 /jewishnh.org/community-calendar/chocolate-havdalah-story-time\n\nWear you
 r coziest pajamas\, grab a cup of hot chocolate and join us on Zoom for a 
 short Havdalah service followed by a reading of "The Chocolate King" by Mi
 chael Leventhal. \n\nPurchase a Chocolate Kit including a mug you can per
 sonalize\, hot chocolate mix\, a Chocolate King or Queen crown craft and a
  few other goodies! $5 per kit\; limit 4 kits per family. 
DTSTART;TZID=America/New_York:20220219T180000
DTEND;TZID=America/New_York:20220219T183000
END:VEVENT
END:VCALENDAR
