BEGIN:VCALENDAR
PRODID:-//eluceo/ical//2.0/EN
VERSION:2.0
CALSCALE:GREGORIAN
BEGIN:VEVENT
UID:5a47b6e1969eb61ee1149344b594c84b
DTSTAMP:20260424T041720Z
SUMMARY:Climate Change and Your Health: Why it Matters!
DESCRIPTION:Jewish Federation of New Hampshire\nCommunity Calendar\nhttps:/
 /jewishnh.org/community-calendar/climate-change-and-your-health-why-it-mat
 ters-1660737712\n\nThe speaker Dr. Deborah Gerson is a pathologist practic
 ing at Catholic Medical Center in Manchester where she has seen the health
  effects of global warming in her practice with the increase in tick-borne
  diseases such as babesiosis and Lyme disease.  She practiced pathology fo
 r several years in Florida where she learned first-hand the health dangers
  caused by hurricanes and extreme heat.
DTSTART;TZID=America/New_York:20220908T190000
DTEND;TZID=America/New_York:20220908T210000
END:VEVENT
END:VCALENDAR
