BEGIN:VCALENDAR
PRODID:-//eluceo/ical//2.0/EN
VERSION:2.0
CALSCALE:GREGORIAN
BEGIN:VEVENT
UID:5795464b87e26922be3330633460f8d9
DTSTAMP:20260423T021611Z
SUMMARY:Code of Joy - Women's Rosh Chodesh Society Zoom Class
DESCRIPTION:Jewish Federation of New Hampshire\nCommunity Calendar\nhttps:/
 /jewishnh.org/community-calendar/code-of-joy---womens-rosh-chodesh-society
 -zoom-class-1605061301\n\nFirst class in a series of 7 monthly classes. Ti
 tled - Just Over Yonder FINDING HAPPINESS IN LIFE'S GIFTS\, hosted by Chab
 ad of New Hampshire.\n\nEmail Shternie@Chabadofnh.com for zoom link
DTSTART;TZID=America/New_York:20201123T193000
DTEND;TZID=America/New_York:20201123T213000
END:VEVENT
END:VCALENDAR
