BEGIN:VCALENDAR
PRODID:-//eluceo/ical//2.0/EN
VERSION:2.0
CALSCALE:GREGORIAN
BEGIN:VEVENT
UID:7341175878bf1a7de69496b90c135931
DTSTAMP:20260423T204240Z
SUMMARY:Coffee For College Students With Rabbi Jon Spira-Savett
DESCRIPTION:Jewish Federation of New Hampshire\nCommunity Calendar\nhttps:/
 /jewishnh.org/community-calendar/coffee-for-college-students-with-rabbi-jo
 n-spira-savett-1703616002\n\nIf you’re home from college\, come have som
 e coffee\, tea\, breakfast with Rabbi Jon and each other!\n\nWe can talk a
 bout anything you’re interested in.\n\nHis treat!
DTSTART;TZID=America/New_York:20240103T100000
DTEND;TZID=America/New_York:20240103T113000
END:VEVENT
END:VCALENDAR
