BEGIN:VCALENDAR
PRODID:-//eluceo/ical//2.0/EN
VERSION:2.0
CALSCALE:GREGORIAN
BEGIN:VEVENT
UID:3f99bd70cf9b2b37a92138bbed972ec9
DTSTAMP:20260423T074630Z
SUMMARY:Cohen Center for Holocaust and Genocide Studies
DESCRIPTION:Jewish Federation of New Hampshire\nCommunity Calendar\nhttps:/
 /jewishnh.org/community-calendar/cohen-center-for-holocaust-and-genocide-s
 tudies-1630670554\n\nDr. Bjorn Krondorfer will explore the concept of “o
 rdinary antisemitism” through a\npersonal story about the effects of the
  Holocaust and war memories in German society after 1945\, especially as t
 hey are passed on generationally. Dr. Krondorfer’s father was drafted in
 to the army at age 17 and was stationed near a Jewish slave labor camp in 
 Poland. The talk focuses on the value of engagement through dialogue betwe
 en\ncommunities affected by historical trauma.\n\nThe talk is free and...
DTSTART;TZID=America/New_York:20210914T190000
DTEND;TZID=America/New_York:20210914T203000
END:VEVENT
END:VCALENDAR
