BEGIN:VCALENDAR
PRODID:-//eluceo/ical//2.0/EN
VERSION:2.0
CALSCALE:GREGORIAN
BEGIN:VEVENT
UID:31b167ab7e8b22ce25e7f0aaf16e0d97
DTSTAMP:20260422T232319Z
SUMMARY:Combatants for Peace
DESCRIPTION:Jewish Federation of New Hampshire\nCommunity Calendar\nhttps:/
 /jewishnh.org/community-calendar/combatants-for-peace-concord\n\nCombatant
 s for Peace\n\nIf you yearn for peace in the Middle East but don't believe
  it can happen in your lifetime\, consider coming to one of three public p
 resentations by Palestinian Jamel Qassas and Israeli Netta Hazan\, ex-figh
 ters from opposite sides of the conflict who not only believe that peace i
 s possible\, they're modeling what it looks like. They are members of Comb
 atants for Peace\, a grassroots organization founded on the conviction tha
 t the cycle of violence will end when Israelis...
DTSTART;TZID=America/New_York:20180502T183000
DTEND;TZID=America/New_York:20180502T203000
END:VEVENT
END:VCALENDAR
