BEGIN:VCALENDAR
PRODID:-//eluceo/ical//2.0/EN
VERSION:2.0
CALSCALE:GREGORIAN
BEGIN:VEVENT
UID:7389cdc0522246527c65caa2de7980a2
DTSTAMP:20260425T023243Z
SUMMARY:Comedy Night with Rabbi Bob Alper
DESCRIPTION:Jewish Federation of New Hampshire\nCommunity Calendar\nhttps:/
 /jewishnh.org/community-calendar/comedy-night-with-rabbi-bob-alper-1554476
 876\n\nTemple Israel Portsmouth presents an evening of comedy with “unor
 thodox” Rabbi Bob Alper. We’ve heard great things about his approachab
 le and hilarious stand-up act! Please join us for an evening of good food\
 , friends in community\, music\, and laughter. Tickets are $36 per person 
 and may be reserved through the Temple Israel office.
DTSTART;TZID=America/New_York:20190504T190000
DTEND;TZID=America/New_York:20190504T210000
END:VEVENT
END:VCALENDAR
