BEGIN:VCALENDAR
PRODID:-//eluceo/ical//2.0/EN
VERSION:2.0
CALSCALE:GREGORIAN
BEGIN:VEVENT
UID:4be709c46e83d32b1ae16ec52982cb18
DTSTAMP:20260423T021811Z
SUMMARY:Community BBQ and Shabbat Alive Service at Temple Beth Abraham
DESCRIPTION:Jewish Federation of New Hampshire\nCommunity Calendar\nhttps:/
 /jewishnh.org/community-calendar/community-bbq-and-shabbat-alive-service-a
 t-temple-beth-abraham-1688062285\n\nJoin Temple Beth Abraham for an outdoo
 r BBQ dinner at 5:30 pm under our tent.After dinner\, stay for Shabbat Ali
 ve! Service beginning at 6:30 pm.(No RSVP necessary if attending service o
 nly).Oneg Shabbat (Dessert) will be available after the service at around 
 7:15 pm.Community event open to all!Adult (12 years old and older): $10 Ch
 ild (between 5 and 12 years old): $5 Child (under 5 years old): Free
DTSTART;TZID=America/New_York:20230721T173000
DTEND;TZID=America/New_York:20230721T193000
END:VEVENT
END:VCALENDAR
