BEGIN:VCALENDAR
PRODID:-//eluceo/ical//2.0/EN
VERSION:2.0
CALSCALE:GREGORIAN
BEGIN:VEVENT
UID:727d8585459b1f4fca5d995412538e03
DTSTAMP:20260422T192745Z
SUMMARY:Community Day of Music and Movement
DESCRIPTION:Jewish Federation of New Hampshire\nCommunity Calendar\nhttps:/
 /jewishnh.org/community-calendar/community-day-of-music-and-movement-16257
 63116\n\nTemple Israel Portsmouth to host a  participatory\, family friend
 ly event including a variety of Jewish and secular music\, yoga\, chi gong
 \, Israeli folk dancing\, African drumming and some surprises.
DTSTART;TZID=America/New_York:20210815T110000
DTEND;TZID=America/New_York:20210815T150000
END:VEVENT
END:VCALENDAR
