BEGIN:VCALENDAR
PRODID:-//eluceo/ical//2.0/EN
VERSION:2.0
CALSCALE:GREGORIAN
BEGIN:VEVENT
UID:06a88aa071ed8c3f3a6eb9bb63ccad27
DTSTAMP:20260422T183612Z
SUMMARY:Community Hanukkah Party\, Temple Israel Portsmouth
DESCRIPTION:Jewish Federation of New Hampshire\nCommunity Calendar\nhttps:/
 /jewishnh.org/community-calendar/community-hanukkah-party-temple-israel-po
 rtsmouth-1668115549\n\nPlease join Temple Israel Portsmouth for latkes\, d
 reidels\, music with special guests Lisa Lipkin and Jay Hitt\, and a massi
 ve group candle lighting. Bring your favorite Hanukkiah and candles and we
 lcome the start of Hanukkah as a community.
DTSTART;TZID=America/New_York:20221221T170000
DTEND;TZID=America/New_York:20221221T190000
END:VEVENT
END:VCALENDAR
