BEGIN:VCALENDAR
PRODID:-//eluceo/ical//2.0/EN
VERSION:2.0
CALSCALE:GREGORIAN
BEGIN:VEVENT
UID:91e37a68d2dd1de13888a1b9dcfe017a
DTSTAMP:20260423T102545Z
SUMMARY:Community Holocaust Remembrance Program
DESCRIPTION:Jewish Federation of New Hampshire\nCommunity Calendar\nhttps:/
 /jewishnh.org/community-calendar/community-holocaust-remembrance-program-1
 679856402\n\nThe community is invited to hear prominent community members 
 and a special presentation by gifted artist Bonnie Abrams\, "Voice of the 
 Second Generation\," a program that tells the story of her Holocaust survi
 vor parents through music.
DTSTART;TZID=America/New_York:20230506T160000
DTEND;TZID=America/New_York:20230506T180000
END:VEVENT
END:VCALENDAR
