BEGIN:VCALENDAR
PRODID:-//eluceo/ical//2.0/EN
VERSION:2.0
CALSCALE:GREGORIAN
BEGIN:VEVENT
UID:848a0dbe813a77859c2b70def7e5ae90
DTSTAMP:20260423T164115Z
SUMMARY:Seacoast Chabad Community Passover Seder
DESCRIPTION:Jewish Federation of New Hampshire\nCommunity Calendar\nhttps:/
 /jewishnh.org/community-calendar/community-passover-seder-1648487181\n\nGe
 tting ready for a Passover to remember!!\n\nJoin us for a magnificent Comm
 unity Passover Seder. Complete with Gourmet Dishes\, Hand-baked Matzah\, W
 ine and more!!\n\nCan’t wait to see you there and celebrate together!!\n
 \nFriday\, April 15th | 7:00PM\n\nRegister here: JewishSeacoast.com/Seder
DTSTART;TZID=America/New_York:20220415T190000
DTEND;TZID=America/New_York:20220415T203000
END:VEVENT
END:VCALENDAR
