BEGIN:VCALENDAR
PRODID:-//eluceo/ical//2.0/EN
VERSION:2.0
CALSCALE:GREGORIAN
BEGIN:VEVENT
UID:00c45d34168b7606eebafa36ba0e65dc
DTSTAMP:20260423T191035Z
SUMMARY:Community Shabbat Campout Retreat at Living Tree Alliance
DESCRIPTION:Jewish Federation of New Hampshire\nCommunity Calendar\nhttps:/
 /jewishnh.org/community-calendar/community-shabbat-campout-retreat-at-livi
 ng-tree-alliance-in-moretown\n\nCommunity Shabbat Campout Retreat at Livin
 g Tree Alliance in Moretown | July 28–30\n\nJoin us July 28–30 for a w
 eekend to immerse in the natural world and connect with meaningful multige
 nerational community\, farm-fresh food\, river swims\, nature walks\, song
 \, meditation\, and so much more!\n\nEnjoy the beauty of connecting with t
 he earth\, your food\, and rest as a form of cultural revitalization. The
 re will be time to explore the woods and river and immerse in the beauty o
 f summer in Vermont...
DTSTART;TZID=America/New_York:20230728T000000
DTEND;TZID=America/New_York:20230730T235959
END:VEVENT
END:VCALENDAR
