BEGIN:VCALENDAR
PRODID:-//eluceo/ical//2.0/EN
VERSION:2.0
CALSCALE:GREGORIAN
BEGIN:VEVENT
UID:7204b0c15649e5f1d8b956af7f096009
DTSTAMP:20260423T191007Z
SUMMARY:Community Tu BiShvat Celebration Portsmouth
DESCRIPTION:Jewish Federation of New Hampshire\nCommunity Calendar\nhttps:/
 /jewishnh.org/community-calendar/community-tu-bishvat-celebration-portsmou
 th-1699626759\n\nPlease join Temple Israel Portsmouth for a family-friendl
 y celebration of the new year of the trees! Register via the temple websit
 e calendar: https://templeisraelnh.shulcloud.com/event/tu-bishvat-program.
 html
DTSTART;TZID=America/New_York:20240124T160000
DTEND;TZID=America/New_York:20240124T180000
END:VEVENT
END:VCALENDAR
