BEGIN:VCALENDAR
PRODID:-//eluceo/ical//2.0/EN
VERSION:2.0
CALSCALE:GREGORIAN
BEGIN:VEVENT
UID:f80abb12cf02ea00a2e247a55e2df3ec
DTSTAMP:20260422T200656Z
SUMMARY:Community Tu BiSh'vat Climate Action Seder
DESCRIPTION:Jewish Federation of New Hampshire\nCommunity Calendar\nhttps:/
 /jewishnh.org/community-calendar/community-tu-bishvat-climate-action-seder
 -1673380344\n\nClimate change is big. You can be bigger.\n\nTu BiSh'vat is
  the Jewish "new year for trees\," a time for us to reflect on all the way
 s nature provides for us every day. Celebrate with your community at Templ
 e Israel\, Portsmouth\, by trying some delicious fruit and fun STEAM acti
 vities\, including edible greenhouse gases\, plastic bottle gardens\, and 
 CO2 balloons. With special musical guests Lisa Jane Lipkin and Jay Hitt.\
 n\nThis event is free and open to the public. Register at https://templeis
 ...
DTSTART;TZID=America/New_York:20230205T150000
DTEND;TZID=America/New_York:20230205T170000
END:VEVENT
END:VCALENDAR
