BEGIN:VCALENDAR
PRODID:-//eluceo/ical//2.0/EN
VERSION:2.0
CALSCALE:GREGORIAN
BEGIN:VEVENT
UID:70d91d0fabb3b4042fb16341c30a732d
DTSTAMP:20260422T060951Z
SUMMARY:Confronting Genocide & Antisemitism: U.S. Prevention Efforts
DESCRIPTION:Jewish Federation of New Hampshire\nCommunity Calendar\nhttps:/
 /jewishnh.org/community-calendar/confronting-genocide--antisemitism-us-pre
 vention-efforts-1677171914\n\n"Confronting Genocide and Antisemitism: U.S.
  Prevention Efforts around the World"
DTSTART;TZID=America/New_York:20230414T180000
DTEND;TZID=America/New_York:20230414T200000
END:VEVENT
END:VCALENDAR
