BEGIN:VCALENDAR
PRODID:-//eluceo/ical//2.0/EN
VERSION:2.0
CALSCALE:GREGORIAN
BEGIN:VEVENT
UID:1a667dad9ffc5de84d1064ebb8e056af
DTSTAMP:20260422T095308Z
SUMMARY:Congregation Ahavas Achim Book Club "Sinner and the Sea"
DESCRIPTION:Jewish Federation of New Hampshire\nCommunity Calendar\nhttps:/
 /jewishnh.org/community-calendar/congregation-ahavas-achim-book-club-sinne
 r-and-the-sea-1565379597\n\nAt 7 pm the book club will begin with a discus
 sion of Rebecca Kanner's novel\, Sinners and the Sea: The Untold Story of 
 Noah's Wife. At 7:30\, we will have an opportunity to Skype with the autho
 r from her home base in Minneapolis.\n\nPublisher's Weekly wrote that Noah
 's unnamed wife is a powerful\, memorable character.\n\nKirkus Reviews: Ka
 nner successfully undertakes a formidable task retelling a familiar religi
 ous story through the eyes of Noah's wife. The narrative's well-articulate
 d\, evenly ...
DTSTART;TZID=America/New_York:20191030T190000
DTEND;TZID=America/New_York:20191030T210000
END:VEVENT
END:VCALENDAR
