BEGIN:VCALENDAR
PRODID:-//eluceo/ical//2.0/EN
VERSION:2.0
CALSCALE:GREGORIAN
BEGIN:VEVENT
UID:22af39e10a363b2487b40da2468c0d6a
DTSTAMP:20260423T012602Z
SUMMARY:Congregation Ahavas Achim's 53rd Annual Kosher-Q
DESCRIPTION:Jewish Federation of New Hampshire\nCommunity Calendar\nhttps:/
 /jewishnh.org/community-calendar/congregation-ahavas-achims-53rd-annual-ko
 sher-q\n\nImagine the sound of BBQ chicken sizzling on the grill as its mo
 uth-watering scent fills the air. With kosher BBQ'd chicken\, fresh picked
  local corn steamed in the husk\, rolls\, cold drinks and juicy watermelon
  - this celebration of community\, tradition and delicious kosher BBQ is s
 ure to delight all! There will be veggie burgers as well! Enjoy your meal 
 under the trees with friends and family\, or order your meal "to go." And 
 be sure to purchase a bunch of raffle tickets to win one of many tre...
DTSTART;TZID=America/New_York:20220814T113000
DTEND;TZID=America/New_York:20220814T133000
END:VEVENT
END:VCALENDAR
