BEGIN:VCALENDAR
PRODID:-//eluceo/ical//2.0/EN
VERSION:2.0
CALSCALE:GREGORIAN
BEGIN:VEVENT
UID:0e15a24b979c9bf69a403c68bec3305a
DTSTAMP:20260423T172724Z
SUMMARY:Congregation Betenu Potluck Second Seder
DESCRIPTION:Jewish Federation of New Hampshire\nCommunity Calendar\nhttps:/
 /jewishnh.org/community-calendar/congregation-betenu-potluck-second-seder-
 1583881740\n\nCongregation Betenu invites members and friends to join us o
 n Thursday\, April 9 for a potluck second seder. Families should bring a P
 assover friendly main dish\, singles bring a side. Desserts welcome from a
 nyone! Setup begins at 5:30 pm and the seder\, led by Rav Sam Blumberg beg
 ins at 6 pm. Contact the Betenu office at (603)886-1633 to preregister. Fe
 e: $5 per person/$18 maximum per family to cover the cost of seder plates\
 , drinks\, etc.
DTSTART;TZID=America/New_York:20200409T180000
DTEND;TZID=America/New_York:20200409T203000
END:VEVENT
END:VCALENDAR
