BEGIN:VCALENDAR
PRODID:-//eluceo/ical//2.0/EN
VERSION:2.0
CALSCALE:GREGORIAN
BEGIN:VEVENT
UID:0e9e7879e608c97e09fbd8649ec1eebc
DTSTAMP:20260424T061609Z
SUMMARY:Temple Beth Abraham Congregational Trip to Israel Introductory Meet
 ing
DESCRIPTION:Jewish Federation of New Hampshire\nCommunity Calendar\nhttps:/
 /jewishnh.org/community-calendar/congregational-trip-to-israel-introductor
 y-meeting-1578680036\n\nCome and talk about goals of a trip to Israel some
 time in winter 2020-spring 2021 for about 12-14 days\, including two Shabb
 atot. We’ll look at a sample itinerary and you can ask any questions and
  share any ideas.\n\nIdeally\, such a trip would be good for people who ha
 ve never been to Israel as well as those who have even many times.\n\nRabb
 i Jon’s goals for a community Israel trip:\n- Building deeper relationsh
 ips among people who go\n- Experiencing Shabbat in distinctly Israeli ways
 \, in ...
DTSTART;TZID=America/New_York:20200129T180000
DTEND;TZID=America/New_York:20200129T193000
END:VEVENT
END:VCALENDAR
