BEGIN:VCALENDAR
PRODID:-//eluceo/ical//2.0/EN
VERSION:2.0
CALSCALE:GREGORIAN
BEGIN:VEVENT
UID:926a6942cb207d7a1f23aca77ef9c627
DTSTAMP:20260423T091612Z
SUMMARY:Conversations on Zionism: Digital Media Warriors
DESCRIPTION:Jewish Federation of New Hampshire\nCommunity Calendar\nhttps:/
 /jewishnh.org/community-calendar/conversations-on-zionism-digital-media-wa
 rriors-1641330940\n\nJoin Jewish National Fund-USA for a series of intervi
 ews\, panel discussions and more &ndash\; all meant to facilitate a dialog
 ue and expose the beautiful and diverse facets of modern Zionism\, and its
  positive impact on many aspects of our lives\, no matter where we are on 
 the globe.
DTSTART;TZID=America/New_York:20220201T193000
DTEND;TZID=America/New_York:20220201T203000
END:VEVENT
END:VCALENDAR
