BEGIN:VCALENDAR
PRODID:-//eluceo/ical//2.0/EN
VERSION:2.0
CALSCALE:GREGORIAN
BEGIN:VEVENT
UID:dd5efefd67cea82bdcda3ce1797318c3
DTSTAMP:20260423T204728Z
SUMMARY:Conversations on Zionism: Does Israel Have Friends at the Pulpit?
DESCRIPTION:Jewish Federation of New Hampshire\nCommunity Calendar\nhttps:/
 /jewishnh.org/community-calendar/conversations-on-zionism-does-israel-have
 -friends-at-the-pulpit-1646670190\n\nJoin Jewish National Fund-USA for a s
 eries of interviews\, panel discussions and more – all meant to facilita
 te a dialogue and expose the beautiful and diverse facets of modern Zionis
 m\, and its positive impact on many aspects of our lives\, no matter where
  we are on the globe. Tune in as Russell F. Robinson and Rabbi David Wolpe
 \, one of the most influential rabbis in the world\, discuss the rabbinate
 ’s views on Israel and the challenges and opportunities pulpit rabbis fa
 ce as they lead...
DTSTART;TZID=America/New_York:20220329T193000
DTEND;TZID=America/New_York:20220329T203000
END:VEVENT
END:VCALENDAR
