BEGIN:VCALENDAR
PRODID:-//eluceo/ical//2.0/EN
VERSION:2.0
CALSCALE:GREGORIAN
BEGIN:VEVENT
UID:bb2a10f254a98e3b9fadaf3fa4cd52f7
DTSTAMP:20260422T150803Z
SUMMARY:Conversations on Zionism: Yes\, You Can Be a Progressive Zionist!
DESCRIPTION:Jewish Federation of New Hampshire\nCommunity Calendar\nhttps:/
 /jewishnh.org/community-calendar/conversations-on-zionism-yes-you-can-be-a
 -progressive-zionist-1630607567\n\nJoin Jewish National Fund-USA for a ser
 ies of human interactions\, short films\, interviews\, panel discussions a
 nd more – all meant to facilitate a dialogue and expose the beautiful an
 d diverse facets of modern Zionism\, and its positive impact on many aspec
 ts of our lives. Episode four features a lively panel discussion with seve
 ral members of congress. 
DTSTART;TZID=America/New_York:20210914T193000
DTEND;TZID=America/New_York:20210914T210000
END:VEVENT
END:VCALENDAR
