BEGIN:VCALENDAR
PRODID:-//eluceo/ical//2.0/EN
VERSION:2.0
CALSCALE:GREGORIAN
BEGIN:VEVENT
UID:42c6a1bbbf8e688acc32c676f96359e1
DTSTAMP:20260422T150056Z
SUMMARY:Conversations on Zionism: Yes\, You Can Be a Progressive Zionist!
DESCRIPTION:Jewish Federation of New Hampshire\nCommunity Calendar\nhttps:/
 /jewishnh.org/community-calendar/conversations-on-zionism-yes-you-can-be-a
 -progressive-zionist-1630607672\n\nJoin Jewish National Fund-USA for a ser
 ies of human interactions\, short films\, interviews\, panel discussions a
 nd more – all meant to facilitate a dialogue and expose the beautiful an
 d diverse facets of modern Zionism\, and its positive impact on many aspec
 ts of our lives. \n
DTSTART;TZID=America/New_York:20211116T193000
DTEND;TZID=America/New_York:20211116T210000
END:VEVENT
END:VCALENDAR
