BEGIN:VCALENDAR
PRODID:-//eluceo/ical//2.0/EN
VERSION:2.0
CALSCALE:GREGORIAN
BEGIN:VEVENT
UID:ba5850144a92c8901ab573926af68eb3
DTSTAMP:20260422T151143Z
SUMMARY:Cooking Class with the Shlicha\, Derry
DESCRIPTION:Jewish Federation of New Hampshire\nCommunity Calendar\nhttps:/
 /jewishnh.org/community-calendar/cooking-class-with-the-shlicha-derry\n\nW
 e're excited to invite you to the fourth event on a series of cooking clas
 ses!\n*This event is hosted in a private home*\nWe will be making Hummus &
  Tabbouleh salad! YUMMY\nThe cost per person helps cover the ingredients\,
  and you get to have dinner with wonderful people\, participate in the coo
 king process\, learn about the foods and their history and hang out with N
 oam :)\n\nTo RSVP & purchase your spot:\nCall us at 603-627-7679 and reser
 ve your spot using a debit/credit card. $10 per partici...
DTSTART;TZID=America/New_York:20190530T183000
DTEND;TZID=America/New_York:20190530T210000
END:VEVENT
END:VCALENDAR
