BEGIN:VCALENDAR
PRODID:-//eluceo/ical//2.0/EN
VERSION:2.0
CALSCALE:GREGORIAN
BEGIN:VEVENT
UID:49bd3f9bd5183bbe19b0b7dc49ca7d46
DTSTAMP:20260425T011134Z
SUMMARY:Cooking Class with the Shlicha in Manchester
DESCRIPTION:Jewish Federation of New Hampshire\nCommunity Calendar\nhttps:/
 /jewishnh.org/community-calendar/cooking-class-with-the-shlicha-in-manches
 ter\n\nHello everyone!\n\nWe're excited to invite you to the fifth event o
 n a series of cooking classes!\n*This event is hosted in a private home*\n
 We will be making Shakshuka! YUMMY\n\nThe cost per person helps cover the 
 ingredients\, and you get to have dinner with wonderful people\, participa
 te in the cooking process\, learn about the foods and their history and ha
 ng out with Noam Wolf NH Shlicha :)\n\nTo RSVP & reserve your spot:\nCall 
 us at 603-627-7679 \nreserve your spot using a debit/credit car...
DTSTART;TZID=America/New_York:20190626T183000
DTEND;TZID=America/New_York:20190626T203000
END:VEVENT
END:VCALENDAR
