BEGIN:VCALENDAR
PRODID:-//eluceo/ical//2.0/EN
VERSION:2.0
CALSCALE:GREGORIAN
BEGIN:VEVENT
UID:4e02de9cd60e7325b922afbe37222a71
DTSTAMP:20260422T184512Z
SUMMARY:CJP Countering Active Threat Training
DESCRIPTION:Jewish Federation of New Hampshire\nCommunity Calendar\nhttps:/
 /jewishnh.org/community-calendar/countering-active-threat-training\n\nCoun
 tering Active Threat Training – 90 minutes (includes 15-minute drill)\n\
 nThis is being run by Mark Atlee of CJP and is free and open to all.\n\nCo
 untering Active Threat Training (CATT) offers a comprehensive training pro
 gram for participants to prepare and respond to an active threat event\, d
 eveloped specifically for faith-based organizations. We strongly recommend
  that participants attend BeAware Situational Awareness Training prior to 
 attending CATT.  \n\nTopics covered: \n\n\nDif...
DTSTART;TZID=America/New_York:20260429T173000
DTEND;TZID=America/New_York:20260429T190000
END:VEVENT
END:VCALENDAR
