BEGIN:VCALENDAR
PRODID:-//eluceo/ical//2.0/EN
VERSION:2.0
CALSCALE:GREGORIAN
BEGIN:VEVENT
UID:5d4bda33dc2aba8d1573844a4fc2a757
DTSTAMP:20260422T163025Z
SUMMARY:COVID-19: Data and Research from Israel and Around the World
DESCRIPTION:Jewish Federation of New Hampshire\nCommunity Calendar\nhttps:/
 /jewishnh.org/community-calendar/covid-19-data-and-research-from-israel-an
 d-around-the-world-1668020216\n\nDavid Riese will speak on COVID-19: Data 
 and Research from Israel and Around the World at Etz Hayim Synagogue\, 1 
 ½ Hood Road\, Derry\, NH 03038 in person with masks optional. He will pre
 sent research regarding the COVID-19 Pandemic and the different countermea
 sures that have taken place around the world.
DTSTART;TZID=America/New_York:20221110T190000
DTEND;TZID=America/New_York:20221110T210000
END:VEVENT
END:VCALENDAR
