BEGIN:VCALENDAR
PRODID:-//eluceo/ical//2.0/EN
VERSION:2.0
CALSCALE:GREGORIAN
BEGIN:VEVENT
UID:216661f56e70d071b3651e398ab2d7aa
DTSTAMP:20260423T161353Z
SUMMARY:C.R.A.S.E. Training for Houses of Worship
DESCRIPTION:Jewish Federation of New Hampshire\nCommunity Calendar\nhttps:/
 /jewishnh.org/community-calendar/crase-training-for-houses-of-worship\n\nT
 he Jewish Federation of NH together with the Bedford NH Police Department 
 will be hosting a Civilian Response to an Active Shooter Event\, (C.R.A.S.
 E) on Sunday February 16th from 3p-5p. Bedford Police Lieutenant Michael R
 . Bernard will be the presenter for the class at 273 South River Road in B
 edford. Lt. Bernard has over 23 year of Law Enforcement experience and is 
 a certified C.R.A.S.E Instructor. The class\, also known as Avoid\, Deny D
 efend will provide strategies\, guidance and a proven pl...
DTSTART;TZID=America/New_York:20200216T000000
DTEND;TZID=America/New_York:20200216T000000
END:VEVENT
END:VCALENDAR
