BEGIN:VCALENDAR
PRODID:-//eluceo/ical//2.0/EN
VERSION:2.0
CALSCALE:GREGORIAN
BEGIN:VEVENT
UID:b8c20d6f366beba648e45face71f3ead
DTSTAMP:20260422T145709Z
SUMMARY:Death and Mourning in Many Religious Traditions
DESCRIPTION:Jewish Federation of New Hampshire\nCommunity Calendar\nhttps:/
 /jewishnh.org/community-calendar/death-and-mourning-in-many-religious-trad
 itions-1578680241\n\nDeath and Mourning in Many Religious Traditions\n\nMU
 SLIM\, HINDU\, CHRISTIAN\, JEWISH\n\nWith:\nRabbi Jon Spira-Savett\, Templ
 e Beth Abraham\nRev. Sally Newhall\, Nashua Presbyterian Church\nState Rep
 . Latha Mangipudi\, Hindu Temple of New Hampshire\nSyed Sibte Hassan Jafri
 \, Islamic Society of Greater Nashua\n\nOur panel will outline traditions 
 about death\, burial\, and mourning\, as well as some of the spiritual bel
 iefs that underpin these practices. We will leave much time for questions 
 and answer...
DTSTART;TZID=America/New_York:20200127T181500
DTEND;TZID=America/New_York:20200127T193000
END:VEVENT
END:VCALENDAR
