BEGIN:VCALENDAR
PRODID:-//eluceo/ical//2.0/EN
VERSION:2.0
CALSCALE:GREGORIAN
BEGIN:VEVENT
UID:94244317567c3bb1c4ded35439fb65a3
DTSTAMP:20260423T143430Z
SUMMARY:Dedication: Cohen Center for Holocaust and Genocide Studies
DESCRIPTION:Jewish Federation of New Hampshire\nCommunity Calendar\nhttps:/
 /jewishnh.org/community-calendar/dedication-cohen-center-for-holocaust-and
 -genocide-studies-1568306587\n\nDedication of the new space for the Cohen 
 Center for Holocaust and Genocide Studies and the academic department of H
 olocaust and Genocide Studies. Speakers\, brief talks\, exhibit of art and
  photographs\, refreshments.
DTSTART;TZID=America/New_York:20191020T140000
DTEND;TZID=America/New_York:20191020T160000
END:VEVENT
END:VCALENDAR
