BEGIN:VCALENDAR
PRODID:-//eluceo/ical//2.0/EN
VERSION:2.0
CALSCALE:GREGORIAN
BEGIN:VEVENT
UID:21856b54a6e9bd218b9240b531c5e7ba
DTSTAMP:20260423T031312Z
SUMMARY:TEENS: Defending Israel on Social Media
DESCRIPTION:Jewish Federation of New Hampshire\nCommunity Calendar\nhttps:/
 /jewishnh.org/community-calendar/defending-israel-on-social-media\n\nJewis
 h Federation of New Hampshire welcomes our former Shaliach Ra'anan de Haas
  via Zoom for a special teen program. Ra'anan will speak about the do's an
 d don'ts of defending Israel on social media and answer questions.\n\nFree
  event. Registration required to receive Zoom information: https://bit.ly
 /SocialMediaWithRaanan. \n\nThis event is intended for teens. Due to the 
 nature of this program sensitive\, triggering or graphic images and storie
 s may be shared. Our registration form requires p...
DTSTART;TZID=America/New_York:20231022T150000
DTEND;TZID=America/New_York:20231022T160000
END:VEVENT
END:VCALENDAR
