BEGIN:VCALENDAR
PRODID:-//eluceo/ical//2.0/EN
VERSION:2.0
CALSCALE:GREGORIAN
BEGIN:VEVENT
UID:f24fad97f268b893aadf3f5506b0a129
DTSTAMP:20260423T144016Z
SUMMARY:DEKA tour for NH kids
DESCRIPTION:Jewish Federation of New Hampshire\nCommunity Calendar\nhttps:/
 /jewishnh.org/community-calendar/deka-tour-for-nh-kids\n\nJFNH have partne
 red with DEKA to showcase their innovation to NH teens.\n\nNovember 8th is
  the mid-term and what's a better way to spend the day off school than to 
 visit a company run by a Jewish Innovator\, Dean Kamen.\n\nIn this tour we
  will learn about past and new innovations and have an opportunity to meet
  and talk to Dean Kamen himself.\n\n \n\nMore info:\n\nDate and time - No
 vember 8th from 2PM-3:30PM\n\nMeeting place - DEKA parking lot at 340 N C
 ommercial St\, Manchester.\n\nAges- The...
DTSTART;TZID=America/New_York:20221108T140000
DTEND;TZID=America/New_York:20221108T153000
END:VEVENT
END:VCALENDAR
