BEGIN:VCALENDAR
PRODID:-//eluceo/ical//2.0/EN
VERSION:2.0
CALSCALE:GREGORIAN
BEGIN:VEVENT
UID:5189c0530605678d18c6d2b2c605d9fc
DTSTAMP:20260423T083311Z
SUMMARY:Diversity Meets Picture Books
DESCRIPTION:Jewish Federation of New Hampshire\nCommunity Calendar\nhttps:/
 /jewishnh.org/community-calendar/diversity-meets-picture-books\n\nDiversit
 y Meets Picture Books: What You Need to Know to Select Inclusive Materials
 \n\nFREE webinar for New Hampshire early childhood professionals! Join us 
 for a webinar that provides practical tools for supporting children’s po
 sitive identity development and their understanding of others. Earn CCLU t
 raining hours and much more!\n\nThursday\, October 13\, 2022 7:00–8:30pm
  Online\n\nJoin us for a webinar that provides practical tools for support
 ing children’s positive identity development ...
DTSTART;TZID=America/New_York:20221013T190000
DTEND;TZID=America/New_York:20221013T203000
END:VEVENT
END:VCALENDAR
