BEGIN:VCALENDAR
PRODID:-//eluceo/ical//2.0/EN
VERSION:2.0
CALSCALE:GREGORIAN
BEGIN:VEVENT
UID:44760d99bf95049b55a39458695ea5ec
DTSTAMP:20260423T053320Z
SUMMARY:Does Terrorism Work?
DESCRIPTION:Jewish Federation of New Hampshire\nCommunity Calendar\nhttps:/
 /jewishnh.org/community-calendar/does-terrorism-work\n\nThe Cohen Center f
 or Holocaust and Genocide Studies and the Ewing World Affairs Lecture seri
 es present a talk by Professor Richard English on Wednesday\, February 9t
 h at 4:00pm. Professor English is Professor of Politics at Queen's Univers
 ity Belfast\, where he is also Director of the Senator George J. Mitchell 
 Institute for Global Peace\, Security and Justice. Professor English will 
 discuss his recent book\, "Does Terrorism Work?"\n\nResponses to terrorism
  have frequently shaped world history a...
DTSTART;TZID=America/New_York:20220209T160000
DTEND;TZID=America/New_York:20220209T170000
END:VEVENT
END:VCALENDAR
