BEGIN:VCALENDAR
PRODID:-//eluceo/ical//2.0/EN
VERSION:2.0
CALSCALE:GREGORIAN
BEGIN:VEVENT
UID:be74220b20b10023dffe10bd6950eff5
DTSTAMP:20260423T220043Z
SUMMARY:Donuts with Dinah
DESCRIPTION:Jewish Federation of New Hampshire\nCommunity Calendar\nhttps:/
 /jewishnh.org/community-calendar/donuts-with-dinah\n\nDonuts with Dinah\n\
 n \n\nJoin new program coordinator Dinah Berch for a virtual jelly donut 
 muffin baking class over Zoom\, perfect for the last day of Chanukah!\n\n
  \n\nRegister for Zoom information. Download the recipe (PDF).\n\n 
DTSTART;TZID=America/New_York:20211205T090000
DTEND;TZID=America/New_York:20211205T100000
END:VEVENT
END:VCALENDAR
