BEGIN:VCALENDAR
PRODID:-//eluceo/ical//2.0/EN
VERSION:2.0
CALSCALE:GREGORIAN
BEGIN:VEVENT
UID:4dd349795d0b1090d9c48775e8dcf19f
DTSTAMP:20260422T140657Z
SUMMARY:Early Education Initiative November Meet Up!
DESCRIPTION:Jewish Federation of New Hampshire\nCommunity Calendar\nhttps:/
 /jewishnh.org/community-calendar/early-education-initiative-november-meet-
 up\n\nMeet other families with preschool aged children and grow your commu
 nity!\n\nOpen to families with children 3-5. Siblings are welcome!\n\n*Mas
 ks required for everyone 3+\n.......\nSunday\, November 21st ~ 3PM\nJewish
  Federation of NH Building ~ 273 South River Rd. Unit 5\, Bedford\n\nConta
 ct alane.sabel@jewishnh.org or 603-627-7679 with questions
DTSTART;TZID=America/New_York:20211121T150000
DTEND;TZID=America/New_York:20211121T160000
END:VEVENT
END:VCALENDAR
