BEGIN:VCALENDAR
PRODID:-//eluceo/ical//2.0/EN
VERSION:2.0
CALSCALE:GREGORIAN
BEGIN:VEVENT
UID:1ecd2113ba2c259a61743d19a7034893
DTSTAMP:20260423T034248Z
SUMMARY:POSTPONED: Elana Arian In Concert
DESCRIPTION:Jewish Federation of New Hampshire\nCommunity Calendar\nhttps:/
 /jewishnh.org/community-calendar/elana-arian-in-concert-1666874496\n\nUnfo
 rtunately this event is being postponed. Please watch the Temple Israel ca
 lendar at www.templeisraelnh.org for updates.\n\nComposer\, multi-instrume
 ntalist and prayer leader\, Elana Arian is one of the leading voices in co
 ntemporary Jewish music across the globe. She joins Temple Israel in Ports
 mouth as our Artist-in-Residence November 18-19\, 2022. After co-leading S
 habbat services with Rabba Kaya Stern-Kaufman on Friday\, November 18 and 
 Saturday\, November 19\, Elana's visit concludes with a...
DTSTART;TZID=America/New_York:20221119T190000
DTEND;TZID=America/New_York:20221119T210000
END:VEVENT
END:VCALENDAR
