BEGIN:VCALENDAR
PRODID:-//eluceo/ical//2.0/EN
VERSION:2.0
CALSCALE:GREGORIAN
BEGIN:VEVENT
UID:8731cfd662d5736f469ebe6e4080f398
DTSTAMP:20260422T163108Z
SUMMARY:Elana Arian In Concert at Temple Israel Portsmouth
DESCRIPTION:Jewish Federation of New Hampshire\nCommunity Calendar\nhttps:/
 /jewishnh.org/community-calendar/elana-arian-in-concert-at-temple-israel-p
 ortsmouth-1696962076\n\nTemple Israel Portsmouth congregants and friends l
 ook forward to welcoming composer\, multi-instrumentalist\, and prayer lea
 der Elana Arian as Artist-in-Residence for a very special Shabbat. One of 
 the leading voices in contemporary Jewish music across the globe\, Elana A
 rian's concert will feature her original compositions. Dessert will be ser
 ved to end the evening on an even sweeter note. Register for concert ticke
 ts via the temple website calendar. Suggested ticket donation of $18 benef
 its th...
DTSTART;TZID=America/New_York:20231111T190000
DTEND;TZID=America/New_York:20231111T210000
END:VEVENT
END:VCALENDAR
