BEGIN:VCALENDAR
PRODID:-//eluceo/ical//2.0/EN
VERSION:2.0
CALSCALE:GREGORIAN
BEGIN:VEVENT
UID:33ed9fb6a642958e2121c089c1e57913
DTSTAMP:20260424T061942Z
SUMMARY:“Engaging Children through Jewish Reading Aloud”\,
DESCRIPTION:Jewish Federation of New Hampshire\nCommunity Calendar\nhttps:/
 /jewishnh.org/community-calendar/engaging-children-through-jewish-reading-
 aloud-1574728920\n\nAllyson Guertin \, PJ Library Coordinator\, will start
  with adults by discussing ways to engage child through Jewish Read Aloud.
  Then the last 15 minutes children will join us and adults can read to the
 ir children
DTSTART;TZID=America/New_York:20200419T100000
DTEND;TZID=America/New_York:20200419T120000
END:VEVENT
END:VCALENDAR
