BEGIN:VCALENDAR
PRODID:-//eluceo/ical//2.0/EN
VERSION:2.0
CALSCALE:GREGORIAN
BEGIN:VEVENT
UID:e30e39feec4a0a0916937285be0f62bc
DTSTAMP:20260422T230618Z
SUMMARY:Erev Rosh Hashanah Service at Congregation Betenu
DESCRIPTION:Jewish Federation of New Hampshire\nCommunity Calendar\nhttps:/
 /jewishnh.org/community-calendar/erev-rosh-hashanah-service-1628090781\n\n
 Service led by Rav Giulia Fleishman and Cantorial Soloist Howard Solomon. 
 Live and virtual event.
DTSTART;TZID=America/New_York:20210906T193000
DTEND;TZID=America/New_York:20210906T210000
END:VEVENT
END:VCALENDAR
