BEGIN:VCALENDAR
PRODID:-//eluceo/ical//2.0/EN
VERSION:2.0
CALSCALE:GREGORIAN
BEGIN:VEVENT
UID:3a5617731a7ef503e6e73d5b7aa617ae
DTSTAMP:20260421T234125Z
SUMMARY:Erev Sukkot Picnic at Strawbery Banke
DESCRIPTION:Jewish Federation of New Hampshire\nCommunity Calendar\nhttps:/
 /jewishnh.org/community-calendar/erev-sukkot-picnic-at-strawbery-banke-166
 2759458\n\nWelcome the festival in a shared event with Havurah Piscataqua 
 and Temple Israel Portsmouth at the sukkah outside the Shapiro House. Brin
 g a dairy/pareve dish to share and a chair.
DTSTART;TZID=America/New_York:20221009T173000
DTEND;TZID=America/New_York:20221009T193000
END:VEVENT
END:VCALENDAR
