BEGIN:VCALENDAR
PRODID:-//eluceo/ical//2.0/EN
VERSION:2.0
CALSCALE:GREGORIAN
BEGIN:VEVENT
UID:5b2fded136adb3c360b83a5c08f60be2
DTSTAMP:20260422T172106Z
SUMMARY:Erev Sukkot Picnic at the Strawbery Banke sukkah
DESCRIPTION:Jewish Federation of New Hampshire\nCommunity Calendar\nhttps:/
 /jewishnh.org/community-calendar/erev-sukkot-potluck-at-the-strawbery-bank
 e-sukkah-1628626602\n\nPlease join Temple Israel Portsmouth and Chavurah P
 isacataqua at the sukkah outside the Shapiro House at Strawbery Banke for 
 a picnic.
DTSTART;TZID=America/New_York:20210920T180000
DTEND;TZID=America/New_York:20210920T200000
END:VEVENT
END:VCALENDAR
