BEGIN:VCALENDAR
PRODID:-//eluceo/ical//2.0/EN
VERSION:2.0
CALSCALE:GREGORIAN
BEGIN:VEVENT
UID:abff9c3f9734aece28e02e67751ea1bd
DTSTAMP:20260423T233811Z
SUMMARY:Erev Tish'a B'Av
DESCRIPTION:Jewish Federation of New Hampshire\nCommunity Calendar\nhttps:/
 /jewishnh.org/community-calendar/erev-tisha-bav-1562710723\n\nReservations
  are not needed.
DTSTART;TZID=America/New_York:20190810T203500
DTEND;TZID=America/New_York:20190810T223500
END:VEVENT
END:VCALENDAR
